BEGIN:VCALENDAR
VERSION:2.0
PRODID:-//Lough Ree Yacht Club - ECPv4.9.14//NONSGML v1.0//EN
CALSCALE:GREGORIAN
METHOD:PUBLISH
X-WR-CALNAME:Lough Ree Yacht Club
X-ORIGINAL-URL:https://www.lryc.ie
X-WR-CALDESC:Events for Lough Ree Yacht Club
BEGIN:VTIMEZONE
TZID:UTC
BEGIN:STANDARD
TZOFFSETFROM:+0000
TZOFFSETTO:+0000
TZNAME:UTC
DTSTART:20200101T000000
END:STANDARD
END:VTIMEZONE
BEGIN:VEVENT
DTSTART;TZID=UTC:20200104T203000
DTEND;TZID=UTC:20200104T233000
DTSTAMP:20260420T042134
CREATED:20190927T083928Z
LAST-MODIFIED:20191223T102429Z
UID:4135-1578169800-1578180600@www.lryc.ie
SUMMARY:250th New Years Celebrations
DESCRIPTION:\nvar test = document.getElementsByClassName("tribe-events-event-image");\nfor (var paragraph of test) {\n  paragraph.remove();\n}\n\nThe kick off to our 250th year of existence! Come and celebrate at your Club! Drink\, Finger food & Live Music! No charge. Please email secretary@lryc.ie if coming\n
URL:https://www.lryc.ie/event/250th-new-years-celebrations/
ATTACH;FMTTYPE=image/jpeg:https://www.lryc.ie/wp-content/uploads/2017/05/SODS_Racing2_web.jpg
END:VEVENT
END:VCALENDAR