BEGIN:VCALENDAR
VERSION:2.0
PRODID:-//Lough Ree Yacht Club - ECPv4.9.14//NONSGML v1.0//EN
CALSCALE:GREGORIAN
METHOD:PUBLISH
X-WR-CALNAME:Lough Ree Yacht Club
X-ORIGINAL-URL:https://www.lryc.ie
X-WR-CALDESC:Events for Lough Ree Yacht Club
BEGIN:VTIMEZONE
TZID:UTC
BEGIN:STANDARD
TZOFFSETFROM:+0000
TZOFFSETTO:+0000
TZNAME:UTC
DTSTART:20260101T000000
END:STANDARD
END:VTIMEZONE
BEGIN:VEVENT
DTSTART;VALUE=DATE:20260829
DTEND;VALUE=DATE:20260831
DTSTAMP:20260420T003226
CREATED:20170608T112503Z
LAST-MODIFIED:20260227T114900Z
UID:370-1787961600-1788134399@www.lryc.ie
SUMMARY:SODs Youth Regatta
DESCRIPTION:
URL:https://www.lryc.ie/event/barges-sods/
LOCATION:LRYC\, Lough Ree Yacht Club\, Ballyglass\, Athlone\, Ireland
CATEGORIES:Shannons
ATTACH;FMTTYPE=image/jpeg:https://www.lryc.ie/wp-content/uploads/2026/02/21f54dcc-6a35-42d8-9282-2a3718bd65fc-e1772192908833.jpg
ORGANIZER;CN="Alan%20Algeo":MAILTO:alan.algeo@gmail.com
END:VEVENT
END:VCALENDAR