BEGIN:VCALENDAR
VERSION:2.0
PRODID:-//Lough Ree Yacht Club - ECPv4.9.14//NONSGML v1.0//EN
CALSCALE:GREGORIAN
METHOD:PUBLISH
X-WR-CALNAME:Lough Ree Yacht Club
X-ORIGINAL-URL:https://www.lryc.ie
X-WR-CALDESC:Events for Lough Ree Yacht Club
BEGIN:VTIMEZONE
TZID:UTC
BEGIN:STANDARD
TZOFFSETFROM:+0000
TZOFFSETTO:+0000
TZNAME:UTC
DTSTART:20220101T000000
END:STANDARD
END:VTIMEZONE
BEGIN:VEVENT
DTSTART;VALUE=DATE:20220604
DTEND;VALUE=DATE:20220607
DTSTAMP:20260420T002940
CREATED:20180105T094951Z
LAST-MODIFIED:20220603T092440Z
UID:1123-1654300800-1654559999@www.lryc.ie
SUMMARY:Clinkerfest
DESCRIPTION:Sailing Instructions please CLICK HERE\nNotice of race please CLICK HERE\nClinkerfest Entry please CLICK HERE
URL:https://www.lryc.ie/event/clinkerfest/
ATTACH;FMTTYPE=image/jpeg:https://www.lryc.ie/wp-content/uploads/2022/02/ClinkerfestLogo.jpeg
END:VEVENT
END:VCALENDAR