BEGIN:VCALENDAR
VERSION:2.0
PRODID:-//Lough Ree Yacht Club - ECPv4.9.14//NONSGML v1.0//EN
CALSCALE:GREGORIAN
METHOD:PUBLISH
X-WR-CALNAME:Lough Ree Yacht Club
X-ORIGINAL-URL:https://www.lryc.ie
X-WR-CALDESC:Events for Lough Ree Yacht Club
BEGIN:VTIMEZONE
TZID:UTC
BEGIN:STANDARD
TZOFFSETFROM:+0000
TZOFFSETTO:+0000
TZNAME:UTC
DTSTART:20190101T000000
END:STANDARD
END:VTIMEZONE
BEGIN:VEVENT
DTSTART;VALUE=DATE:20190720
DTEND;VALUE=DATE:20190722
DTSTAMP:20260420T021931
CREATED:20180108T131025Z
LAST-MODIFIED:20190711T102152Z
UID:1136-1563580800-1563753599@www.lryc.ie
SUMMARY:Commodores Cruise & Company with racing for all fleets
DESCRIPTION:
URL:https://www.lryc.ie/event/commodores-cruise-company/
CATEGORIES:Cruisers,Shannons
ATTACH;FMTTYPE=image/jpeg:https://www.lryc.ie/wp-content/uploads/2017/05/courses.jpg
END:VEVENT
END:VCALENDAR