BEGIN:VCALENDAR
VERSION:2.0
PRODID:-//Lough Ree Yacht Club - ECPv4.9.14//NONSGML v1.0//EN
CALSCALE:GREGORIAN
METHOD:PUBLISH
X-WR-CALNAME:Lough Ree Yacht Club
X-ORIGINAL-URL:https://www.lryc.ie
X-WR-CALDESC:Events for Lough Ree Yacht Club
BEGIN:VTIMEZONE
TZID:UTC
BEGIN:STANDARD
TZOFFSETFROM:+0000
TZOFFSETTO:+0000
TZNAME:UTC
DTSTART:20180101T000000
END:STANDARD
END:VTIMEZONE
BEGIN:VEVENT
DTSTART;VALUE=DATE:20180519
DTEND;VALUE=DATE:20180521
DTSTAMP:20260420T005125
CREATED:20180407T113611Z
LAST-MODIFIED:20180407T113611Z
UID:1297-1526688000-1526860799@www.lryc.ie
SUMMARY:Cruisers Chatterton Cup R1-3
DESCRIPTION:
URL:https://www.lryc.ie/event/cruisers-chatterton-cup-r1-3/
CATEGORIES:Cruisers
ATTACH;FMTTYPE=image/jpeg:https://www.lryc.ie/wp-content/uploads/2018/04/18952563_1442206535825979_5557621808321206982_n.jpg
END:VEVENT
END:VCALENDAR