BEGIN:VCALENDAR
VERSION:2.0
PRODID:-//Lough Ree Yacht Club - ECPv4.9.14//NONSGML v1.0//EN
CALSCALE:GREGORIAN
METHOD:PUBLISH
X-WR-CALNAME:Lough Ree Yacht Club
X-ORIGINAL-URL:https://www.lryc.ie
X-WR-CALDESC:Events for Lough Ree Yacht Club
BEGIN:VTIMEZONE
TZID:UTC
BEGIN:STANDARD
TZOFFSETFROM:+0000
TZOFFSETTO:+0000
TZNAME:UTC
DTSTART:20180101T000000
END:STANDARD
END:VTIMEZONE
BEGIN:VEVENT
DTSTART;VALUE=DATE:20180616
DTEND;VALUE=DATE:20180618
DTSTAMP:20260420T005125
CREATED:20180407T113726Z
LAST-MODIFIED:20180407T113726Z
UID:1300-1529107200-1529279999@www.lryc.ie
SUMMARY:Cruisers Chatterton Cup R4-6
DESCRIPTION:
URL:https://www.lryc.ie/event/cruisers-chatterton-cup-r4-6/
ATTACH;FMTTYPE=image/jpeg:https://www.lryc.ie/wp-content/uploads/2018/04/18839357_1442206359159330_992762910557945292_n.jpg
END:VEVENT
END:VCALENDAR