BEGIN:VCALENDAR
VERSION:2.0
PRODID:-//Lough Ree Yacht Club - ECPv4.9.14//NONSGML v1.0//EN
CALSCALE:GREGORIAN
METHOD:PUBLISH
X-WR-CALNAME:Lough Ree Yacht Club
X-ORIGINAL-URL:https://www.lryc.ie
X-WR-CALDESC:Events for Lough Ree Yacht Club
BEGIN:VTIMEZONE
TZID:UTC
BEGIN:STANDARD
TZOFFSETFROM:+0000
TZOFFSETTO:+0000
TZNAME:UTC
DTSTART:20180101T000000
END:STANDARD
END:VTIMEZONE
BEGIN:VEVENT
DTSTART;VALUE=DATE:20180922
DTEND;VALUE=DATE:20180924
DTSTAMP:20260420T005150
CREATED:20180407T114903Z
LAST-MODIFIED:20180407T114903Z
UID:1319-1537574400-1537747199@www.lryc.ie
SUMMARY:Cruisers Killinure Marina Trophy R1-3
DESCRIPTION:
URL:https://www.lryc.ie/event/cruisers-killinure-marina-trophy-r1-3/
CATEGORIES:Cruisers
ATTACH;FMTTYPE=image/jpeg:https://www.lryc.ie/wp-content/uploads/2018/04/13240003_1103770613002908_1726820606792452029_n.jpg
END:VEVENT
END:VCALENDAR