BEGIN:VCALENDAR
VERSION:2.0
PRODID:-//Lough Ree Yacht Club - ECPv4.9.14//NONSGML v1.0//EN
CALSCALE:GREGORIAN
METHOD:PUBLISH
X-WR-CALNAME:Lough Ree Yacht Club
X-ORIGINAL-URL:https://www.lryc.ie
X-WR-CALDESC:Events for Lough Ree Yacht Club
BEGIN:VTIMEZONE
TZID:UTC
BEGIN:STANDARD
TZOFFSETFROM:+0000
TZOFFSETTO:+0000
TZNAME:UTC
DTSTART:20180101T000000
END:STANDARD
END:VTIMEZONE
BEGIN:VEVENT
DTSTART;VALUE=DATE:20181006
DTEND;VALUE=DATE:20181008
DTSTAMP:20260420T023945
CREATED:20180407T115026Z
LAST-MODIFIED:20180411T215429Z
UID:1322-1538784000-1538956799@www.lryc.ie
SUMMARY:Cruisers Killinure Marina Trophy R4-6
DESCRIPTION:
URL:https://www.lryc.ie/event/cruisers-killinure-marina-trophy-r4-6/
CATEGORIES:Cruisers
ATTACH;FMTTYPE=image/jpeg:https://www.lryc.ie/wp-content/uploads/2018/04/11951333_963987460314558_407537382160914577_n.jpg
END:VEVENT
END:VCALENDAR