BEGIN:VCALENDAR
VERSION:2.0
PRODID:-//Lough Ree Yacht Club - ECPv4.9.14//NONSGML v1.0//EN
CALSCALE:GREGORIAN
METHOD:PUBLISH
X-WR-CALNAME:Lough Ree Yacht Club
X-ORIGINAL-URL:https://www.lryc.ie
X-WR-CALDESC:Events for Lough Ree Yacht Club
BEGIN:VTIMEZONE
TZID:UTC
BEGIN:STANDARD
TZOFFSETFROM:+0000
TZOFFSETTO:+0000
TZNAME:UTC
DTSTART:20180101T000000
END:STANDARD
END:VTIMEZONE
BEGIN:VEVENT
DTSTART;VALUE=DATE:20180908
DTEND;VALUE=DATE:20180910
DTSTAMP:20260420T005221
CREATED:20180407T114744Z
LAST-MODIFIED:20180407T114744Z
UID:1316-1536364800-1536537599@www.lryc.ie
SUMMARY:Cruisers Long Distance to Lanesborough
DESCRIPTION:
URL:https://www.lryc.ie/event/cruisers-long-distance-to-lanesborough/
CATEGORIES:Cruisers
ATTACH;FMTTYPE=image/jpeg:https://www.lryc.ie/wp-content/uploads/2018/04/13681054_1138347622878540_29415443952475084_n.jpg
END:VEVENT
END:VCALENDAR