BEGIN:VCALENDAR
VERSION:2.0
PRODID:-//Lough Ree Yacht Club - ECPv4.9.14//NONSGML v1.0//EN
CALSCALE:GREGORIAN
METHOD:PUBLISH
X-WR-CALNAME:Lough Ree Yacht Club
X-ORIGINAL-URL:https://www.lryc.ie
X-WR-CALDESC:Events for Lough Ree Yacht Club
BEGIN:VTIMEZONE
TZID:UTC
BEGIN:STANDARD
TZOFFSETFROM:+0000
TZOFFSETTO:+0000
TZNAME:UTC
DTSTART:20210101T000000
END:STANDARD
END:VTIMEZONE
BEGIN:VEVENT
DTSTART;VALUE=DATE:20210605
DTEND;VALUE=DATE:20210606
DTSTAMP:20260420T004921
CREATED:20180407T113346Z
LAST-MODIFIED:20210602T175209Z
UID:1294-1622851200-1622937599@www.lryc.ie
SUMMARY:Keelboat Saturday Training
DESCRIPTION:
URL:https://www.lryc.ie/event/cruisers-long-distance-weekend/
CATEGORIES:Cruisers
ATTACH;FMTTYPE=image/jpeg:https://www.lryc.ie/wp-content/uploads/2018/04/cruisers-600x404.jpg
END:VEVENT
END:VCALENDAR