BEGIN:VCALENDAR
VERSION:2.0
PRODID:-//Lough Ree Yacht Club - ECPv4.9.14//NONSGML v1.0//EN
CALSCALE:GREGORIAN
METHOD:PUBLISH
X-WR-CALNAME:Lough Ree Yacht Club
X-ORIGINAL-URL:https://www.lryc.ie
X-WR-CALDESC:Events for Lough Ree Yacht Club
BEGIN:VTIMEZONE
TZID:UTC
BEGIN:STANDARD
TZOFFSETFROM:+0000
TZOFFSETTO:+0000
TZNAME:UTC
DTSTART:20180101T000000
END:STANDARD
END:VTIMEZONE
BEGIN:VEVENT
DTSTART;VALUE=DATE:20180708
DTEND;VALUE=DATE:20180709
DTSTAMP:20260420T023539
CREATED:20180407T114246Z
LAST-MODIFIED:20180407T114246Z
UID:1306-1531008000-1531094399@www.lryc.ie
SUMMARY:Cruisers Picnic Sail
DESCRIPTION:
URL:https://www.lryc.ie/event/cruisers-picnic-sail/
ATTACH;FMTTYPE=image/jpeg:https://www.lryc.ie/wp-content/uploads/2018/04/14470430_1184386238274678_3823896415357907759_n.jpg
END:VEVENT
END:VCALENDAR