BEGIN:VCALENDAR
VERSION:2.0
PRODID:-//Lough Ree Yacht Club - ECPv4.9.14//NONSGML v1.0//EN
CALSCALE:GREGORIAN
METHOD:PUBLISH
X-WR-CALNAME:Lough Ree Yacht Club
X-ORIGINAL-URL:https://www.lryc.ie
X-WR-CALDESC:Events for Lough Ree Yacht Club
BEGIN:VTIMEZONE
TZID:UTC
BEGIN:STANDARD
TZOFFSETFROM:+0000
TZOFFSETTO:+0000
TZNAME:UTC
DTSTART:20260101T000000
END:STANDARD
END:VTIMEZONE
BEGIN:VEVENT
DTSTART;VALUE=DATE:20260706
DTEND;VALUE=DATE:20260725
DTSTAMP:20260420T003129
CREATED:20180502T190915Z
LAST-MODIFIED:20260227T115201Z
UID:1625-1783296000-1784937599@www.lryc.ie
SUMMARY:Junior Sailing Course
DESCRIPTION:\n\n\n\nWelcome to the LRYC Junior Sailing Course 2025.\n\nWe are delighted to announce we will be running a full course again this year for all levels. There has been increased interest in the sailing course over the past few\nyears. To match site\, rescue and hire boat capacity\, along with available instructors and ISA teaching ratios\, the number of sailors within each level will be necessarily\ncapped.\nApplications will be opened first to members\, on Monday March 10th\, applications from non-members will be accepted on a first come\, first serve basis\, from Monday March 17th.\n\nWe ask you to kindly NOTE that a completed application form does not guarantee a place on the course. This will come into effect when the ratios of instructors\nto participants is finalised. \n\n  \n    Level\n    Age\n    Time\n    Duration\n    Dates\n    1st Child\n    2nd Child\n    3rd Child\n  \n  \n    Cara Na Mara - Otters Morning\n    7\n    1/2 Day\n    2 weeks\n    30th to 11th\n€160\n€150\n€140\n  \n  \n    Cara Na Mara - Seals Morning\n    8\n    1/2 Day\n    2 weeks\n    30th to 11th\n€160\n€150\n€140\n  \n  \n    Cara Na Mara - Dolphins\n    9\n    Full Day\n    2 weeks\n    30th to 11th\n€260\n€250\n€240\n  \n  \n    Cara Na Mara - Orcas\n    10\n    Full Day\n    2 weeks\n    30th to 11th\n€260\n€250\n€240\n  \n  \n    Basic Skills (Completed Orcas\, some experience)\n    11+\n    Full Day\n    2 weeks\n    30th to 11th\n€260\n€250\n€240\n  \n  \n    Improving Skills\n    11+\n    Full Day\n    3 weeks\n    30th to 18th\n€360\n€350\n€340\n  \n  \n    ABH/Start Racing\n    12+\n    Full Day\n    3 weeks\n    30th to 18th\n€360\n€350\n€340\n  \n  \n    Adventure/Kites and Wires and Pre Pre Instructor\n    12+\n    Full Day\n    3 weeks\n    30th to 18th\n€360\n€350\n€340\n  \n\nJuvenile Membership - €78\nPlease NOTE that if this is your child’s second year doing the sailing course and you are not current members of the club\, your child must be a paid-up\nJuvenile Member to participate in the junior sailing course. This membership also covers participation in other sailing activities during the year from July to\nDec 2025. Please ensure you choose the Juvenile Membership option with your online entry. \nFor more detailed information on the Cara na Mara ISA levels\, please use the link belowCara Na Mara \n\nClick Here To Enter\n \n\n\n\n
URL:https://www.lryc.ie/event/junior-sailing-course/
ATTACH;FMTTYPE=image/jpeg:https://www.lryc.ie/wp-content/uploads/2018/05/oppies.jpg
END:VEVENT
END:VCALENDAR