BEGIN:VCALENDAR
VERSION:2.0
PRODID:-//Lough Ree Yacht Club - ECPv4.9.14//NONSGML v1.0//EN
CALSCALE:GREGORIAN
METHOD:PUBLISH
X-WR-CALNAME:Lough Ree Yacht Club
X-ORIGINAL-URL:https://www.lryc.ie
X-WR-CALDESC:Events for Lough Ree Yacht Club
BEGIN:VTIMEZONE
TZID:UTC
BEGIN:STANDARD
TZOFFSETFROM:+0000
TZOFFSETTO:+0000
TZNAME:UTC
DTSTART:20260101T000000
END:STANDARD
END:VTIMEZONE
BEGIN:VEVENT
DTSTART;VALUE=DATE:20260822
DTEND;VALUE=DATE:20260824
DTSTAMP:20260420T040812
CREATED:20220212T162610Z
LAST-MODIFIED:20260227T121720Z
UID:8273-1787356800-1787529599@www.lryc.ie
SUMMARY:Keelboat Class Captain's Weekend
DESCRIPTION:
URL:https://www.lryc.ie/event/keelboat-class-captains-sail/
ATTACH;FMTTYPE=image/jpeg:https://www.lryc.ie/wp-content/uploads/2019/03/j24.jpg
END:VEVENT
END:VCALENDAR