BEGIN:VCALENDAR
VERSION:2.0
PRODID:-//Lough Ree Yacht Club - ECPv4.9.14//NONSGML v1.0//EN
CALSCALE:GREGORIAN
METHOD:PUBLISH
X-WR-CALNAME:Lough Ree Yacht Club
X-ORIGINAL-URL:https://www.lryc.ie
X-WR-CALDESC:Events for Lough Ree Yacht Club
BEGIN:VTIMEZONE
TZID:UTC
BEGIN:STANDARD
TZOFFSETFROM:+0000
TZOFFSETTO:+0000
TZNAME:UTC
DTSTART:20170101T000000
END:STANDARD
END:VTIMEZONE
BEGIN:VEVENT
DTSTART;VALUE=DATE:20170729
DTEND;VALUE=DATE:20170731
DTSTAMP:20260420T003048
CREATED:20170608T114440Z
LAST-MODIFIED:20170714T141903Z
UID:384-1501286400-1501459199@www.lryc.ie
SUMMARY:Kiwi
DESCRIPTION:Kiwi Regatta 2017\n\nKiwi regatta 2017 Notice of Race
URL:https://www.lryc.ie/event/kiwi/
LOCATION:LRYC\, Lough Ree Yacht Club\, Ballyglass\, Athlone\, Ireland
CATEGORIES:Shannons
END:VEVENT
END:VCALENDAR