BEGIN:VCALENDAR
VERSION:2.0
PRODID:-//Lough Ree Yacht Club - ECPv4.9.14//NONSGML v1.0//EN
CALSCALE:GREGORIAN
METHOD:PUBLISH
X-WR-CALNAME:Lough Ree Yacht Club
X-ORIGINAL-URL:https://www.lryc.ie
X-WR-CALDESC:Events for Lough Ree Yacht Club
BEGIN:VTIMEZONE
TZID:UTC
BEGIN:STANDARD
TZOFFSETFROM:+0000
TZOFFSETTO:+0000
TZNAME:UTC
DTSTART:20240101T000000
END:STANDARD
END:VTIMEZONE
BEGIN:VEVENT
DTSTART;TZID=UTC:20240221T190000
DTEND;TZID=UTC:20240221T210000
DTSTAMP:20260421T135834
CREATED:20240201T164607Z
LAST-MODIFIED:20240201T164607Z
UID:12736-1708542000-1708549200@www.lryc.ie
SUMMARY:Knots and Splicing
DESCRIPTION:Among the skills that we can hone over the winter are  knotwork and splicing. \nOver the next few weeks\, we plan to meet at the club to share our knowledge on splicing and knots.\nWe will start with the essential knots for sailing and traditional 3 strand splicing.\nOver the following weeks\, we can look at the materials and tools for splicing and whipping\, moving on to splicing the newer materials such as vectran and dyneema.\nWe can also look at making soft shackles.\n\nThese sessions are intended for us all to share our knowledge. So whether you are completely new to this or are very experienced and would like to share your experience\, we would be delighted if you'd come along.
URL:https://www.lryc.ie/event/knots-and-splicing-3/
END:VEVENT
END:VCALENDAR