BEGIN:VCALENDAR
VERSION:2.0
PRODID:-//Lough Ree Yacht Club - ECPv4.9.14//NONSGML v1.0//EN
CALSCALE:GREGORIAN
METHOD:PUBLISH
X-WR-CALNAME:Lough Ree Yacht Club
X-ORIGINAL-URL:https://www.lryc.ie
X-WR-CALDESC:Events for Lough Ree Yacht Club
BEGIN:VTIMEZONE
TZID:UTC
BEGIN:STANDARD
TZOFFSETFROM:+0000
TZOFFSETTO:+0000
TZNAME:UTC
DTSTART:20250101T000000
END:STANDARD
END:VTIMEZONE
BEGIN:VEVENT
DTSTART;VALUE=DATE:20250125
DTEND;VALUE=DATE:20250127
DTSTAMP:20260422T093536
CREATED:20241003T083023Z
LAST-MODIFIED:20250116T153436Z
UID:14308-1737763200-1737935999@www.lryc.ie
SUMMARY:Laser Training Weekend
DESCRIPTION:\n\n//numericalTotals\nvar total = 0;\n//Summary Strings\nvar summaryMsg = [];\n//Arrays\nvar errors = [];\nfunction continuePurchase() {\n        var xhr = new XMLHttpRequest()\n        xhr.open("GET"\, 'https://www.lryc.ie/?clear-cart'\, true);\n        xhr.setRequestHeader("Content-Type"\, "application/x-www-form-urlencoded; charset=UTF-8");\n        xhr.onload = function () {\n            getAdultMealFees();\n        };\n        xhr.send();\n}\nfunction clearCart() {\n   this.summaryMsg = [];\n   thereAreValidationErrors()\n   if (this.errors.length > 0) {\n      printErrors();\n      return;\n   }\n   disableButton();\n   continuePurchase(); \n}\nfunction thereAreValidationErrors(){\n   this.errors = [];\n   var validation = document.getElementById("validation");\n   var numberAdult = document.getElementsByName("numberAdult");\n    if (numberAdult[0].value === "") {\n      this.errors.push("Please select a number of meals")\n    } \n   validation.innerHTML = "";\n}\nfunction isNumeric(str) {\n  if (typeof str != "string") return false // we only process strings!  \n  return !isNaN(str) && // use type coercion to parse the _entirety_ of the string (`parseFloat` alone does not do this)...\n         !isNaN(parseFloat(str)) // ...and ensure strings of whitespace fail\n}\nfunction getAdultMealFees() {\n   var names = document.getElementsByName("names");\n   var numberAdult = document.getElementsByName("numberAdult");\n   var sundayInt = parseInt(numberAdult[0].value); \n   var additional = document.getElementsByName("paragraph_text")[0].value;\n   if (sundayInt > 0){\n     var xhr = new XMLHttpRequest();\n     xhr.open("POST"\, 'https://www.lryc.ie/?add-to-cart'\, true);\n     xhr.setRequestHeader("Content-Type"\, "application/x-www-form-urlencoded; charset=UTF-8");\n     xhr.onload = function () {\n        goToCart();\n     };\n     xhr.send('AdditionalInfo='+additional+'&quantity='+sundayInt+'&add-to-cart=14311');\n  }\n}\n\n\n1Book Training\nPlease note: This booking is unrefundable\n\n\nNumber of People \n1\n2\n3\n\n \n\nIf you require a Vegetarian option or other dietary requirements please indicate here\n \n \n \nThis training weekend is now fully booked
URL:https://www.lryc.ie/event/laser-training-weekend/
ATTACH;FMTTYPE=image/jpeg:https://www.lryc.ie/wp-content/uploads/2024/03/laser1-e1711647272600.jpg
END:VEVENT
END:VCALENDAR