BEGIN:VCALENDAR
VERSION:2.0
PRODID:-//Lough Ree Yacht Club - ECPv4.9.14//NONSGML v1.0//EN
CALSCALE:GREGORIAN
METHOD:PUBLISH
X-WR-CALNAME:Lough Ree Yacht Club
X-ORIGINAL-URL:https://www.lryc.ie
X-WR-CALDESC:Events for Lough Ree Yacht Club
BEGIN:VTIMEZONE
TZID:UTC
BEGIN:STANDARD
TZOFFSETFROM:+0000
TZOFFSETTO:+0000
TZNAME:UTC
DTSTART:20190101T000000
END:STANDARD
END:VTIMEZONE
BEGIN:VEVENT
DTSTART;TZID=UTC:20191109T080000
DTEND;TZID=UTC:20191109T170000
DTSTAMP:20260420T040007
CREATED:20190927T083410Z
LAST-MODIFIED:20191217T105022Z
UID:2551-1573286400-1573318800@www.lryc.ie
SUMMARY:Laying up Supper 2019
DESCRIPTION:
URL:https://www.lryc.ie/event/laying-up-dinner-2019/
ATTACH;FMTTYPE=image/jpeg:https://www.lryc.ie/wp-content/uploads/2017/05/Lough-Ree-Yacht-Club-Favicon-512sq.jpg
END:VEVENT
END:VCALENDAR