BEGIN:VCALENDAR
VERSION:2.0
PRODID:-//Lough Ree Yacht Club - ECPv4.9.14//NONSGML v1.0//EN
CALSCALE:GREGORIAN
METHOD:PUBLISH
X-WR-CALNAME:Lough Ree Yacht Club
X-ORIGINAL-URL:https://www.lryc.ie
X-WR-CALDESC:Events for Lough Ree Yacht Club
BEGIN:VTIMEZONE
TZID:UTC
BEGIN:STANDARD
TZOFFSETFROM:+0000
TZOFFSETTO:+0000
TZNAME:UTC
DTSTART:20170101T000000
END:STANDARD
END:VTIMEZONE
BEGIN:VEVENT
DTSTART;TZID=UTC:20170614T191500
DTEND;TZID=UTC:20170614T210000
DTSTAMP:20260420T004924
CREATED:20170516T230006Z
LAST-MODIFIED:20170516T230037Z
UID:186-1497467700-1497474000@www.lryc.ie
SUMMARY:Midweek Racing & BYO BBQ
DESCRIPTION:Wednesday night sailing for Cruisers & SODs\n\nThere will be a Cruiser Race each Wednesday evening from 07 June until 08 August inclusive. Two mini-series of 4 and 5 races (1 discard/series) with a bubbly prize for each\, donated by John Banim. There will be an overall trophy\, the Bergin Bowl presented by Denis Bergin\, for the 9 races\, with 3 discards. The winner of the Bergin Bowl will be ineligible to also win a mini-series prize. The course will be up on the Club noticeboard\, Spinnakers are not permitted. The race will start at 19.15hrs\,\n\nSODs to race in front of club at approx 7.15\n\nBYO BBQ at 20.30hrs salads supplied for €5
URL:https://www.lryc.ie/event/midweek-racing-byo-bbq-2/
LOCATION:LRYC\, Lough Ree Yacht Club\, Ballyglass\, Athlone\, Ireland
CATEGORIES:Cruisers,Shannons
ATTACH;FMTTYPE=image/jpeg:https://www.lryc.ie/wp-content/uploads/2017/05/IMG_0277.jpg
END:VEVENT
END:VCALENDAR