BEGIN:VCALENDAR
VERSION:2.0
PRODID:-//Lough Ree Yacht Club - ECPv4.9.14//NONSGML v1.0//EN
CALSCALE:GREGORIAN
METHOD:PUBLISH
X-WR-CALNAME:Lough Ree Yacht Club
X-ORIGINAL-URL:https://www.lryc.ie
X-WR-CALDESC:Events for Lough Ree Yacht Club
BEGIN:VTIMEZONE
TZID:UTC
BEGIN:STANDARD
TZOFFSETFROM:+0000
TZOFFSETTO:+0000
TZNAME:UTC
DTSTART:20250101T000000
END:STANDARD
END:VTIMEZONE
BEGIN:VEVENT
DTSTART;VALUE=DATE:20250510
DTEND;VALUE=DATE:20250512
DTSTAMP:20260420T023339
CREATED:20250501T132925Z
LAST-MODIFIED:20250501T151809Z
UID:14778-1746835200-1747007999@www.lryc.ie
SUMMARY:Optimist Training Weekend Camping
DESCRIPTION:\n//numericalTotals\nvar total = 0;\n//Summary Strings\nvar summaryMsg = [];\n//Arrays\nvar errors = [];\nfunction continuePurchase() {\n        var xhr = new XMLHttpRequest()\n        xhr.open("GET"\, 'https://www.lryc.ie/?clear-cart'\, true);\n        xhr.setRequestHeader("Content-Type"\, "application/x-www-form-urlencoded; charset=UTF-8");\n        xhr.onload = function () {\n            getTotalMealFees();\n        };\n        xhr.send();\n}\nfunction clearCart() {\n   this.summaryMsg = [];\n   thereAreValidationErrors()\n   if (this.errors.length > 0) {\n      printErrors();\n      return;\n   }\n   disableButton();\n   continuePurchase(); \n}\nfunction thereAreValidationErrors(){\n   this.errors = [];\n   var validation = document.getElementById("validation");\n   var selectDate = document.getElementsByName("selectDate");\n   if (selectDate[0].value.length < 1) {\n      this.errors.push("Please select a camping option.")\n    }\n   validation.innerHTML = "";\n}\nfunction getTotalMealFees() {\n   var selectDate= document.getElementsByName("selectDate");\n   var sundayInt = parseInt(selectDate[0].value); \n   if (sundayInt > 0){\n     var xhr = new XMLHttpRequest();\n     xhr.open("POST"\, 'https://www.lryc.ie/?add-to-cart'\, true);\n     xhr.setRequestHeader("Content-Type"\, "application/x-www-form-urlencoded; charset=UTF-8");\n     xhr.onload = function () {\n        goToCart();\n     };\n     xhr.send('&quantity=1&add-to-cart='+sundayInt);\n  }\n}\n\n\n1Book LRYC Camping\n\n\nCamping Options\nServiced  (power & water) Camping Space €30\nCamping Space (No power\, water short walk) €20\n\n \n \n \n\n
URL:https://www.lryc.ie/event/optimist-training-weekend-camping/
ATTACH;FMTTYPE=image/jpeg:https://www.lryc.ie/wp-content/uploads/2025/03/oppies-lough-ree.jpg
END:VEVENT
END:VCALENDAR