BEGIN:VCALENDAR
VERSION:2.0
PRODID:-//Lough Ree Yacht Club - ECPv4.9.14//NONSGML v1.0//EN
CALSCALE:GREGORIAN
METHOD:PUBLISH
X-WR-CALNAME:Lough Ree Yacht Club
X-ORIGINAL-URL:https://www.lryc.ie
X-WR-CALDESC:Events for Lough Ree Yacht Club
BEGIN:VTIMEZONE
TZID:UTC
BEGIN:STANDARD
TZOFFSETFROM:+0000
TZOFFSETTO:+0000
TZNAME:UTC
DTSTART:20260101T000000
END:STANDARD
END:VTIMEZONE
BEGIN:VEVENT
DTSTART;VALUE=DATE:20260502
DTEND;VALUE=DATE:20260505
DTSTAMP:20260420T022834
CREATED:20191114T134853Z
LAST-MODIFIED:20260227T121237Z
UID:4278-1777680000-1777939199@www.lryc.ie
SUMMARY:Quaker Island Cup
DESCRIPTION:
URL:https://www.lryc.ie/event/quaker-cup/
CATEGORIES:Cruisers
ATTACH;FMTTYPE=image/jpeg:https://www.lryc.ie/wp-content/uploads/2019/05/cruiser-race_09.jpg
END:VEVENT
END:VCALENDAR