BEGIN:VCALENDAR
VERSION:2.0
PRODID:-//Lough Ree Yacht Club - ECPv4.9.14//NONSGML v1.0//EN
CALSCALE:GREGORIAN
METHOD:PUBLISH
X-WR-CALNAME:Lough Ree Yacht Club
X-ORIGINAL-URL:https://www.lryc.ie
X-WR-CALDESC:Events for Lough Ree Yacht Club
BEGIN:VTIMEZONE
TZID:UTC
BEGIN:STANDARD
TZOFFSETFROM:+0000
TZOFFSETTO:+0000
TZNAME:UTC
DTSTART:20210101T000000
END:STANDARD
END:VTIMEZONE
BEGIN:VEVENT
DTSTART;TZID=UTC:20210410T080000
DTEND;TZID=UTC:20210425T170000
DTSTAMP:20260420T043936
CREATED:20210309T111320Z
LAST-MODIFIED:20210325T175509Z
UID:6845-1618041600-1619370000@www.lryc.ie
SUMMARY:SB20 April League
DESCRIPTION:Series over the 10/11 & 24/25th
URL:https://www.lryc.ie/event/sb20-april-league/
ATTACH;FMTTYPE=image/jpeg:https://www.lryc.ie/wp-content/uploads/2021/03/sb20no2.jpg
END:VEVENT
END:VCALENDAR