BEGIN:VCALENDAR
VERSION:2.0
PRODID:-//Lough Ree Yacht Club - ECPv4.9.14//NONSGML v1.0//EN
CALSCALE:GREGORIAN
METHOD:PUBLISH
X-WR-CALNAME:Lough Ree Yacht Club
X-ORIGINAL-URL:https://www.lryc.ie
X-WR-CALDESC:Events for Lough Ree Yacht Club
BEGIN:VTIMEZONE
TZID:UTC
BEGIN:STANDARD
TZOFFSETFROM:+0000
TZOFFSETTO:+0000
TZNAME:UTC
DTSTART:20210101T000000
END:STANDARD
END:VTIMEZONE
BEGIN:VEVENT
DTSTART;VALUE=DATE:20210724
DTEND;VALUE=DATE:20210726
DTSTAMP:20260420T023445
CREATED:20210309T105904Z
LAST-MODIFIED:20210325T174947Z
UID:6837-1627084800-1627257599@www.lryc.ie
SUMMARY:SB20 July Event
DESCRIPTION:
URL:https://www.lryc.ie/event/sb20-july-event/
ATTACH;FMTTYPE=image/jpeg:https://www.lryc.ie/wp-content/uploads/2020/07/WhatsApp-Image-2020-07-02-at-4.52.33-PM.jpeg
END:VEVENT
END:VCALENDAR