BEGIN:VCALENDAR
VERSION:2.0
PRODID:-//Lough Ree Yacht Club - ECPv4.9.14//NONSGML v1.0//EN
CALSCALE:GREGORIAN
METHOD:PUBLISH
X-WR-CALNAME:Lough Ree Yacht Club
X-ORIGINAL-URL:https://www.lryc.ie
X-WR-CALDESC:Events for Lough Ree Yacht Club
BEGIN:VTIMEZONE
TZID:UTC
BEGIN:STANDARD
TZOFFSETFROM:+0000
TZOFFSETTO:+0000
TZNAME:UTC
DTSTART:20210101T000000
END:STANDARD
END:VTIMEZONE
BEGIN:VEVENT
DTSTART;VALUE=DATE:20210724
DTEND;VALUE=DATE:20210726
DTSTAMP:20260420T004733
CREATED:20190305T124235Z
LAST-MODIFIED:20210623T125329Z
UID:2933-1627084800-1627257599@www.lryc.ie
SUMMARY:ODD Weekend
DESCRIPTION:Entry and Event Information: https://oddweekend.groarke.ie/ 
URL:https://www.lryc.ie/event/the-blow-in-regatta/
ATTACH;FMTTYPE=image/png:https://www.lryc.ie/wp-content/uploads/2021/06/odd3.png
END:VEVENT
END:VCALENDAR