BEGIN:VCALENDAR
VERSION:2.0
PRODID:-//Lough Ree Yacht Club - ECPv4.9.14//NONSGML v1.0//EN
CALSCALE:GREGORIAN
METHOD:PUBLISH
X-WR-CALNAME:Lough Ree Yacht Club
X-ORIGINAL-URL:https://www.lryc.ie
X-WR-CALDESC:Events for Lough Ree Yacht Club
BEGIN:VTIMEZONE
TZID:UTC
BEGIN:STANDARD
TZOFFSETFROM:+0000
TZOFFSETTO:+0000
TZNAME:UTC
DTSTART:20170101T000000
END:STANDARD
END:VTIMEZONE
BEGIN:VEVENT
DTSTART;VALUE=DATE:20170715
DTEND;VALUE=DATE:20170717
DTSTAMP:20260420T021342
CREATED:20170608T114358Z
LAST-MODIFIED:20170608T114358Z
UID:382-1500076800-1500249599@www.lryc.ie
SUMMARY:Triangles Regatta
DESCRIPTION:Triangle Regatta 2017
URL:https://www.lryc.ie/event/triangles-regatta/
LOCATION:LRYC\, Lough Ree Yacht Club\, Ballyglass\, Athlone\, Ireland
END:VEVENT
END:VCALENDAR