BEGIN:VCALENDAR
VERSION:2.0
PRODID:-//Lough Ree Yacht Club - ECPv4.9.14//NONSGML v1.0//EN
CALSCALE:GREGORIAN
METHOD:PUBLISH
X-WR-CALNAME:Lough Ree Yacht Club
X-ORIGINAL-URL:https://www.lryc.ie
X-WR-CALDESC:Events for Lough Ree Yacht Club
BEGIN:VTIMEZONE
TZID:UTC
BEGIN:STANDARD
TZOFFSETFROM:+0000
TZOFFSETTO:+0000
TZNAME:UTC
DTSTART:20220101T000000
END:STANDARD
END:VTIMEZONE
BEGIN:VEVENT
DTSTART;TZID=UTC:20220326T080000
DTEND;TZID=UTC:20220326T170000
DTSTAMP:20260421T134240
CREATED:20220212T143803Z
LAST-MODIFIED:20220214T092903Z
UID:8217-1648281600-1648314000@www.lryc.ie
SUMMARY:March Work In
DESCRIPTION:
URL:https://www.lryc.ie/event/work-in/
ATTACH;FMTTYPE=image/jpeg:https://www.lryc.ie/wp-content/uploads/2017/05/courses.jpg
END:VEVENT
END:VCALENDAR